BEGIN:VCALENDAR
VERSION:2.0
PRODID:-//AICI Canada - ECPv6.15.20//NONSGML v1.0//EN
CALSCALE:GREGORIAN
METHOD:PUBLISH
X-ORIGINAL-URL:https://aicicanada.com
X-WR-CALDESC:Events for AICI Canada
REFRESH-INTERVAL;VALUE=DURATION:PT1H
X-Robots-Tag:noindex
X-PUBLISHED-TTL:PT1H
BEGIN:VTIMEZONE
TZID:America/Toronto
BEGIN:DAYLIGHT
TZOFFSETFROM:-0500
TZOFFSETTO:-0400
TZNAME:EDT
DTSTART:20190310T070000
END:DAYLIGHT
BEGIN:STANDARD
TZOFFSETFROM:-0400
TZOFFSETTO:-0500
TZNAME:EST
DTSTART:20191103T060000
END:STANDARD
BEGIN:DAYLIGHT
TZOFFSETFROM:-0500
TZOFFSETTO:-0400
TZNAME:EDT
DTSTART:20200308T070000
END:DAYLIGHT
BEGIN:STANDARD
TZOFFSETFROM:-0400
TZOFFSETTO:-0500
TZNAME:EST
DTSTART:20201101T060000
END:STANDARD
BEGIN:DAYLIGHT
TZOFFSETFROM:-0500
TZOFFSETTO:-0400
TZNAME:EDT
DTSTART:20210314T070000
END:DAYLIGHT
BEGIN:STANDARD
TZOFFSETFROM:-0400
TZOFFSETTO:-0500
TZNAME:EST
DTSTART:20211107T060000
END:STANDARD
END:VTIMEZONE
BEGIN:VEVENT
DTSTART;TZID=America/Toronto:20200430T130000
DTEND;TZID=America/Toronto:20200501T173000
DTSTAMP:20260423T151312
CREATED:20200106T213608Z
LAST-MODIFIED:20200430T164252Z
UID:10000070-1588251600-1588354200@aicicanada.com
SUMMARY:The Prosperity Ticket Webinars
DESCRIPTION:Get The Prosperity Ticket!!\nWhether you are a beginner or extremely advanced – if you want to make some serious money as a Consultant\, Coach\, or Speaker – then you don’t want to miss this online event! \nWe are extremely fortunate to have Canadian gurus Steve Lowell  and Irina Benedict join us!  \nProsperity from the Platform – both Live and Online\nwith Steve Lowell | April 30 2020 | 1:00 – 2:30 pm\nGet the unique\, one-of-a-kind system proven all over the world\nUse powerful techniques to sell more authentically\, easily and without all the high-pressure techniques. Make your offer in complete integrity\, without gimmicks or pressure knowing they already want what you have. \nMore self-proclaimed experts in every field across the globe are taking to the platform to position themselves as the expert of choice\, and they all do it in exactly the same way. This presents a massive opportunity for you as an expert speaker\, to appear to be profoundly different from everyone else in your space simply by changing the way you speak. In this fast-paced\, informational keynote Steve will show you how you can stand out\, get noticed and be chosen by leveraging the power of the spoken word in a very specific way. \nSpeakers\, thought leaders and entrepreneurs around the globe use his system to stand out\, get chosen and sell more! \nJack Canfield Says…\n“If you’re thinking of working with Steve\, RUN…don’t walk! It will be an amazing experience\, I promise you!” \nSome Success Stories…\nCustomer Service expert Michelle Pascoe from Australia did more than $100\,000 from one presentation using these techniques. \nFinancial expert Betty-Anne Howard from Canada became an award-winning speaker using these techniques and made $2 million of new business in a single month. \nSteve’s Been Busy\n\n#1 International Best Seller “Deep Thought Strategy: How to go from OBSCURITY to Success\, Influence\, Impact and Wealth”\nVice-President of the Global Speakers Federation. Will serve as President in 2021\nPast National President\, Canadian Association of Professional Speakers (CAPS)\nOne of fewer than 5% of the world’s professional speakers to hold the Certified Speaking Professional (CSP) designation\n2017 Speaker of the Year Award\, Professional Speakers Association of the United Kingdom (Scotland)\n\nSteve Lowell has been speaking and performing on the live stage since the age of 6\, that’s over 50 years ago. \nFrom Ottawa\, Canada\, Steve is an award-winning\, global speaker and the author of the #1 International Best Seller “Deep Thought Strategy”. \nFor over 30 years Steve has been training and mentoring executives\, thought-leaders and professional speakers around the world to deliver high-impact keynote speeches\, drive revenue from the platform and position themselves as leaders in their field. \nHe’s the immediate past national President of the Canadian Association of Professional Speakers (CAPS) and the Vice-President of the Global Speakers Federation (GSF) with a reach of over 56\,000 professional speakers around the globe. He is one of fewer than 12% of the world’s professional speakers to hold the Certified Speaking Professional (CSP) designation; the highest designation in professional speaking. \nTogether with his wife\, Jayne they travel the world speaking\, training and mentoring those who have a message to monetize through the spoken word. \nPLUS\nProsperity With Partners\nwith Irina Benedict | April 30 2020 | 4:00 – 5:30 pm\nGet strategies to build alliances for abundance.\nTo thrive it’s important to be well supported in your business. Working together we will discover how to develop strategic relationships\, build a supportive team\, and create joint ventures and strategic alliances so you can serve more people with more ease. \nWhat Irina’s Clients Have Said…\nI have to say I am ahead of where I was 4 months ago for sure\, definitely emotionally\, mentally and spiritually. I am no longer stuck and those fears that seemed huge are not so daunting now. ~ Lisa March \n Irina has given me many insights and tools to aid in my success to take into the future. I got value from learning about myself better\, my strengths and even how to embrace my weaknesses and make them work for me in business and in life. ~ Sue Carlton \nIrina helped me create a solid plan of action when I was feeling completely overwhelmed without any direction. Thank you Irina for helping me reframe my thinking about my current situation\, supporting me in opening up to unexplored career options and helping me see the light at the end of the tunnel when I was feeling very much in the dark. You’re awesome! ” ~ Gloria \n“Irina is an amazing coach! In less than 30 minutes\, she gave me a transformation that rocked my world! She set me free and gave me a clear strategic direction! She not only gave me a path forward to take my business to the next level\, but she helped me to get out of myown way and release myself from the “stuff” that was making me feel so weighed down!  I instantly felt delighted and excited by what I GET to do as my next steps! Thank you Irina!!! Sending love to you!!”  ~ Stacey Martino \nWords from Irina\nI believe purpose-driven entrepreneurs have an important mission: to make the world a more peaceful and loving place. I’ve made a commitment to dedicate the rest of my professional life to helping entrepreneurs THRIVE in business. My vision is that entrepreneurs make corporate level income so they can stay true to their purpose and serve the world in their unique way. I founded the Entrepreneur Enlightenment Academy to provide coaching\, curriculum\, events and community to support all aspects of your journey to success. \nFore more information about Irina\, please go to https://entrepreneurenlightenmentacademy.com/. \nPLUS\nProsperity Through Programs – \n5 Keys to a Profitable Virtual Consulting Business\nWith Zayna Rose | May 1 2020 | 1:00 – 2:30\nIn the presentation you will get systems to: \n\nDesign a simple automated marketing sequence that leads people to your offer\nIncorporate the components of a compelling virtual consulting offer\n\nIn addition\, Zayna will share: \n\n5 common mistakes made when building a new online business and how to avoid them (central outcome)\nStrategies for getting your audience to consume your content and take action\nOptions for starting your online business with free tech tool as well as paid tech tools\n\nZayna is an Image Strategist\, Consultant\, TedX Speaker and Host of the On Stage Style podcast. She helps entrepreneurs\, speakers and other professionals to present themselves authentically\, confidently and strategically.  \n  \nThis is done through personal branding\, public image development\, interpersonal communications\, media training and styling. Everyone from entrepreneurs to corporate executives and high-profile individuals are provided with customized image management strategies that can include PR and brand equity advice. Zayna also helps select clients take their consulting businesses online as a part of her public image building service. \n  \nZayna has been featured on national television and in newspapers such as CTV News Channel\, The Globe and Mail\, The Business News Network\, CityTV\, BBC online\, CBC. \n  \nFor more information on Zayna\, please go to https://zaynarose.com/. \nPLUS\nPlug In to Prosper\nPanel Discussion with Image Internet Specialists | May 1 2020 | 4:00 – 5:30\nWith advancements in technology and changes in expectations\, how do we keep up?\nOur diverse panel of product and program experts will share their top tips on increasing income through the internet. We will cover online workshops\, products\, blogs\, social media\, etc. Bring your questions! \n \nChristie Ressel is a stylist with a span of 172\,000 followers across her social platforms and has surpassed over 10.5 million views on her YouTube channel\, helping her serve more women across the world and increase her brand awareness. Her business has moved almost entirely online because of it. Ressel has been the go-to expert for style advice for numerous media outlets across North America such as: CTV News\, Breakfast Television\, Global News\, CBC’s Steven & Chris\, Huffington Post\, CHCH\, Cosmo TV\, Chatelaine\, Toronto Star\, The Hamilton Spectator and many more. \nDeborah Boland has been able to generate a lucrative business using Affiliate Marketing. For over 12 years Deborah has been providing style advice and shopping suggestions to women via a number of digital marketing methods. She is an AICI certified Image consultant and the Publisher of Fabulous After 40\, an online fashion community for women 40\, 50+. \nSue Jacobs has generated an income stream using Zoom for consultations\, workshops and presentations in her work as an Image and Wardrobe consultant. As a “non-techie” who was terrified of going online\, she now has it mastered. \nKaren Brunger has generated an income with a business that is more than 90% online\, spanning more than 80 countries\, through image-related products and online programs. \nEarn 0.6 AICI CEUs (Continuing Education Units) in these four intensive online workshops.\nLearner Outcomes from the Event: \n\nIncorporate a template for designing a presentation to position yourself as the expert.\nMake an authentic offer without gimmicks or pressure sales.\nBuild strategic alliances and joint venture partnerships.\nList steps to move from ‘stuck’ to strategies to accomplish goals.\nDesign a simple automated marketing sequence that leads people to your offer\nIncorporate the components of a compelling virtual consulting offer Identify 6 strategies to make money online.\nCompare and contrast key social media as income generators.\n\nTo Receive CEUs from this Event\, you must: \n\nAttend all four of the 90-minute webinars in their entirety. Attendance will be monitored.\nComplete and submit the Training Evaluation by May 3rd; this will be emailed to each participant.\nComplete and submit a Worksheet by May 3rd; this will be emailed to each participant.\n\nAbout CEUs \nAs an authorized CEU Provider\, AICI has approved this program/course for 0.6 AICI CEUs. \nEarning CEUs is not a requirement of general membership with AICI. \nHowever\, if you are currently certified through AICI with CIC\, CIP or CIM then you must earn CEUs to retain certification.  Please follow this procedure: \nAt the end of this program/session\, please complete the Participant Training Evaluation form.  You will notice that included in this form are the learning outcomes for the session.  Note that you will receive CEUs for this session\, even if you indicate that a learning outcome was not successfully achieved. \nEmail the completed Participant Training Evaluation form to Rebecca Chu at rebecca@impeccableimage.ca  by May 3rd.  You may not submit this form at a later date. \nWhen you earn CEUs\, AICI Headquarters is notified and your permanent record is updated.   You may request a copy of your CEU record by contacting AICI Headquarters. \nPlease note that this course is a training approved by the Association of Image Consultants International (AICI). Certification\, earned through the trainer upon completion of this course\, is entirely independent from AICI’s professional certification programs. If you wish to pursue AICI certification\, please refer to AICI’s website. http://www.aici.org/
URL:https://aicicanada.com/event/prosperity-webinars/
CATEGORIES:Webinars
END:VEVENT
END:VCALENDAR